BEGIN:VCALENDAR
VERSION:2.0
PRODID:-//Buddhist Recovery Network - ECPv6.15.20//NONSGML v1.0//EN
CALSCALE:GREGORIAN
METHOD:PUBLISH
X-ORIGINAL-URL:https://buddhistrecovery.org
X-WR-CALDESC:Events for Buddhist Recovery Network
REFRESH-INTERVAL;VALUE=DURATION:PT1H
X-Robots-Tag:noindex
X-PUBLISHED-TTL:PT1H
BEGIN:VTIMEZONE
TZID:America/Los_Angeles
BEGIN:DAYLIGHT
TZOFFSETFROM:-0800
TZOFFSETTO:-0700
TZNAME:PDT
DTSTART:20220313T100000
END:DAYLIGHT
BEGIN:STANDARD
TZOFFSETFROM:-0700
TZOFFSETTO:-0800
TZNAME:PST
DTSTART:20221106T090000
END:STANDARD
BEGIN:DAYLIGHT
TZOFFSETFROM:-0800
TZOFFSETTO:-0700
TZNAME:PDT
DTSTART:20230312T100000
END:DAYLIGHT
BEGIN:STANDARD
TZOFFSETFROM:-0700
TZOFFSETTO:-0800
TZNAME:PST
DTSTART:20231105T090000
END:STANDARD
BEGIN:DAYLIGHT
TZOFFSETFROM:-0800
TZOFFSETTO:-0700
TZNAME:PDT
DTSTART:20240310T100000
END:DAYLIGHT
BEGIN:STANDARD
TZOFFSETFROM:-0700
TZOFFSETTO:-0800
TZNAME:PST
DTSTART:20241103T090000
END:STANDARD
END:VTIMEZONE
BEGIN:VEVENT
DTSTART;TZID=America/Los_Angeles:20231123T013000
DTEND;TZID=America/Los_Angeles:20231123T023000
DTSTAMP:20260425T200100
CREATED:20231103T122032Z
LAST-MODIFIED:20240115T040052Z
UID:10001385-1700703000-1700706600@buddhistrecovery.org
SUMMARY:BRN Online 8 Step Recovery Meeting
DESCRIPTION:Buddhist Recovery Network is offering meetings every Wednesday of the month\, from 5:30pm to 6:30pm Pacific Time. \nZoom Link \n\nThe first Wednesday of every month will be a Recovery Dharma Meeting\nThe second Wednesday of every month will be a Noble Steps Meeting\nThe third Wednesday of every month will be a Sit-and-Share meeting\nThe fourth wednesday of every month will be an 8 step recovery meeting\nWhen there is a 5th Wednesday there will be a Sit-and-Share meeting.\n\nJoin Zoom Meeting\nhttps://us02web.zoom.us/j/6794136360?pwd=NlVwYmNkRnBhTEE1QmdZTkQ0WStmZz09 \nMeeting ID: 679 413 6360\nPasscode: brn
URL:https://buddhistrecovery.org/event/brn-online-8-step-recovery-meeting/2023-11-23/
LOCATION:MN
END:VEVENT
END:VCALENDAR