BEGIN:VCALENDAR
VERSION:2.0
PRODID:-//Buddhist Recovery Network - ECPv6.15.20//NONSGML v1.0//EN
CALSCALE:GREGORIAN
METHOD:PUBLISH
X-ORIGINAL-URL:https://buddhistrecovery.org
X-WR-CALDESC:Events for Buddhist Recovery Network
REFRESH-INTERVAL;VALUE=DURATION:PT1H
X-Robots-Tag:noindex
X-PUBLISHED-TTL:PT1H
BEGIN:VTIMEZONE
TZID:America/Los_Angeles
BEGIN:DAYLIGHT
TZOFFSETFROM:-0800
TZOFFSETTO:-0700
TZNAME:PDT
DTSTART:20240310T100000
END:DAYLIGHT
BEGIN:STANDARD
TZOFFSETFROM:-0700
TZOFFSETTO:-0800
TZNAME:PST
DTSTART:20241103T090000
END:STANDARD
BEGIN:DAYLIGHT
TZOFFSETFROM:-0800
TZOFFSETTO:-0700
TZNAME:PDT
DTSTART:20250309T100000
END:DAYLIGHT
BEGIN:STANDARD
TZOFFSETFROM:-0700
TZOFFSETTO:-0800
TZNAME:PST
DTSTART:20251102T090000
END:STANDARD
BEGIN:DAYLIGHT
TZOFFSETFROM:-0800
TZOFFSETTO:-0700
TZNAME:PDT
DTSTART:20260308T100000
END:DAYLIGHT
BEGIN:STANDARD
TZOFFSETFROM:-0700
TZOFFSETTO:-0800
TZNAME:PST
DTSTART:20261101T090000
END:STANDARD
END:VTIMEZONE
BEGIN:VEVENT
DTSTART;TZID=America/Los_Angeles:20250302T100000
DTEND;TZID=America/Los_Angeles:20250302T110000
DTSTAMP:20260425T050500
CREATED:20250204T043950Z
LAST-MODIFIED:20250307T013855Z
UID:10003030-1740909600-1740913200@buddhistrecovery.org
SUMMARY:How Buddhist Wisdom Helps Us Stay in Recovery - March Teaching with Walt Opie
DESCRIPTION:The first two path factors of the Noble Eightfold Path\, namely Right View and Right Intention\, combine to be the wisdom factors. When we understand and develop these to a certain point\, we start to see how they can help aim us in the right direction and guide our thinking. This leads to healthier\, more wholesome actions and habits\, and it can motivate us to really want to stay in recovery from addictions. We start to see more clearly the ways we can reduce suffering in our lives.
URL:https://buddhistrecovery.org/event/march-teaching-with-walt-opie/
LOCATION:BRN Academy
CATEGORIES:Academy Teachings
END:VEVENT
END:VCALENDAR