BEGIN:VCALENDAR
VERSION:2.0
PRODID:-//Buddhist Recovery Network - ECPv6.15.20//NONSGML v1.0//EN
CALSCALE:GREGORIAN
METHOD:PUBLISH
X-WR-CALNAME:Buddhist Recovery Network
X-ORIGINAL-URL:https://buddhistrecovery.org
X-WR-CALDESC:Events for Buddhist Recovery Network
REFRESH-INTERVAL;VALUE=DURATION:PT1H
X-Robots-Tag:noindex
X-PUBLISHED-TTL:PT1H
BEGIN:VTIMEZONE
TZID:America/Los_Angeles
BEGIN:DAYLIGHT
TZOFFSETFROM:-0800
TZOFFSETTO:-0700
TZNAME:PDT
DTSTART:20250309T100000
END:DAYLIGHT
BEGIN:STANDARD
TZOFFSETFROM:-0700
TZOFFSETTO:-0800
TZNAME:PST
DTSTART:20251102T090000
END:STANDARD
BEGIN:DAYLIGHT
TZOFFSETFROM:-0800
TZOFFSETTO:-0700
TZNAME:PDT
DTSTART:20260308T100000
END:DAYLIGHT
BEGIN:STANDARD
TZOFFSETFROM:-0700
TZOFFSETTO:-0800
TZNAME:PST
DTSTART:20261101T090000
END:STANDARD
BEGIN:DAYLIGHT
TZOFFSETFROM:-0800
TZOFFSETTO:-0700
TZNAME:PDT
DTSTART:20270314T100000
END:DAYLIGHT
BEGIN:STANDARD
TZOFFSETFROM:-0700
TZOFFSETTO:-0800
TZNAME:PST
DTSTART:20271107T090000
END:STANDARD
END:VTIMEZONE
BEGIN:VEVENT
DTSTART;VALUE=DATE:20260423
DTEND;VALUE=DATE:20260427
DTSTAMP:20260423T010514
CREATED:20260326T131423Z
LAST-MODIFIED:20260326T134234Z
UID:10003292-1776902400-1777247999@buddhistrecovery.org
SUMMARY:Freedom Within: Mindfulness Tools for Sustaining Recovery – April 2026
DESCRIPTION:A Buddhist Meditation Retreat for People in Recovery \nDeadline for enrollment extended to April 15th! \nExperience a path toward genuine freedom through Buddhist mindfulness practices designed to support ongoing recovery from impulses and compulsive patterns. This supportive retreat offers ancient wisdom tools to help interrupt cycles of craving\, urges\, triggers\, and habitual behaviors. Participants will learn to meet challenges with mindful awareness rather than automatic reactions\, cultivating an inner sense of safety\, grounding\, and resilience that supports long-term recovery. Please note: This retreat is not a substitute for direct treatment for active addiction. It is intended for participants who are already in recovery—ideally with at least one year on their recovery journey—particularly if their experiences with craving\, urges\, triggers\, or compulsive patterns relate to substance use or process addictions. Family members of individuals experiencing active addiction are also welcome\, as the retreat aims to deepen understanding of the roots of addiction and strengthen supportive pathways for recovery. \nRead more at the event sign up and information link
URL:https://buddhistrecovery.org/event/freedom-within-mindfulness-tools-for-sustaining-recovery-april-2026/
LOCATION:Metta Meditation Center\, 3864 – 420th Avenue\, Janesville\, MN\, 56048\, United States
ATTACH;FMTTYPE=image/png:https://buddhistrecovery.org/wp-content/uploads/2026/03/Screenshot-2026-03-26-at-6.16.00-AM.png
END:VEVENT
END:VCALENDAR