BEGIN:VCALENDAR
VERSION:2.0
PRODID:-//Buddhist Recovery Network - ECPv6.15.20//NONSGML v1.0//EN
CALSCALE:GREGORIAN
METHOD:PUBLISH
X-ORIGINAL-URL:https://buddhistrecovery.org
X-WR-CALDESC:Events for Buddhist Recovery Network
REFRESH-INTERVAL;VALUE=DURATION:PT1H
X-Robots-Tag:noindex
X-PUBLISHED-TTL:PT1H
BEGIN:VTIMEZONE
TZID:America/Los_Angeles
BEGIN:DAYLIGHT
TZOFFSETFROM:-0800
TZOFFSETTO:-0700
TZNAME:PDT
DTSTART:20220313T100000
END:DAYLIGHT
BEGIN:STANDARD
TZOFFSETFROM:-0700
TZOFFSETTO:-0800
TZNAME:PST
DTSTART:20221106T090000
END:STANDARD
BEGIN:DAYLIGHT
TZOFFSETFROM:-0800
TZOFFSETTO:-0700
TZNAME:PDT
DTSTART:20230312T100000
END:DAYLIGHT
BEGIN:STANDARD
TZOFFSETFROM:-0700
TZOFFSETTO:-0800
TZNAME:PST
DTSTART:20231105T090000
END:STANDARD
BEGIN:DAYLIGHT
TZOFFSETFROM:-0800
TZOFFSETTO:-0700
TZNAME:PDT
DTSTART:20240310T100000
END:DAYLIGHT
BEGIN:STANDARD
TZOFFSETFROM:-0700
TZOFFSETTO:-0800
TZNAME:PST
DTSTART:20241103T090000
END:STANDARD
END:VTIMEZONE
BEGIN:VEVENT
DTSTART;TZID=America/Los_Angeles:20230702T100000
DTEND;TZID=America/Los_Angeles:20230702T110000
DTSTAMP:20260421T232804
CREATED:20231213T063518Z
LAST-MODIFIED:20231213T063518Z
UID:10001636-1688292000-1688295600@buddhistrecovery.org
SUMMARY:The Basic Pattern of Things: Managing Expectations
DESCRIPTION:The Buddha’s First Truth or Realisation was “Life is painful and then you die.” If this is true\, then how do we respond to the disappointments of life and the certainty of death? This session will explore how we are conditioned to protect\, promote and satisfy a ‘self’ which can never be satisfied. As the Buddha says “we are the slaves of craving”. Our wise-heartedness meditation will cultivate an appropriate attitude to the vicissitudes of life.
URL:https://buddhistrecovery.org/event/the-basic-pattern-of-things-managing-expectations/
LOCATION:BRN Academy
CATEGORIES:Academy Teachings
END:VEVENT
END:VCALENDAR