BEGIN:VCALENDAR
VERSION:2.0
PRODID:-//Buddhist Recovery Network - ECPv6.15.20//NONSGML v1.0//EN
CALSCALE:GREGORIAN
METHOD:PUBLISH
X-WR-CALNAME:Buddhist Recovery Network
X-ORIGINAL-URL:https://buddhistrecovery.org
X-WR-CALDESC:Events for Buddhist Recovery Network
REFRESH-INTERVAL;VALUE=DURATION:PT1H
X-Robots-Tag:noindex
X-PUBLISHED-TTL:PT1H
BEGIN:VTIMEZONE
TZID:Europe/London
BEGIN:DAYLIGHT
TZOFFSETFROM:+0000
TZOFFSETTO:+0100
TZNAME:BST
DTSTART:20230326T010000
END:DAYLIGHT
BEGIN:STANDARD
TZOFFSETFROM:+0100
TZOFFSETTO:+0000
TZNAME:GMT
DTSTART:20231029T010000
END:STANDARD
BEGIN:DAYLIGHT
TZOFFSETFROM:+0000
TZOFFSETTO:+0100
TZNAME:BST
DTSTART:20240331T010000
END:DAYLIGHT
BEGIN:STANDARD
TZOFFSETFROM:+0100
TZOFFSETTO:+0000
TZNAME:GMT
DTSTART:20241027T010000
END:STANDARD
BEGIN:DAYLIGHT
TZOFFSETFROM:+0000
TZOFFSETTO:+0100
TZNAME:BST
DTSTART:20250330T010000
END:DAYLIGHT
BEGIN:STANDARD
TZOFFSETFROM:+0100
TZOFFSETTO:+0000
TZNAME:GMT
DTSTART:20251026T010000
END:STANDARD
END:VTIMEZONE
BEGIN:VEVENT
DTSTART;TZID=Europe/London:20240720T100000
DTEND;TZID=Europe/London:20240720T170000
DTSTAMP:20260421T090714
CREATED:20240627T151445Z
LAST-MODIFIED:20240627T154949Z
UID:10002819-1721469600-1721494800@buddhistrecovery.org
SUMMARY:Freedom without Expectations
DESCRIPTION:The way out of suffering\, the Buddha said\, is the Middle Way; the middle path between the extremes of sensual existence. The first and most critical step of the Middle Way is appropriate understanding. And the first things we need to understand correctly are the realities\, limitations and possibilities of being human. \nThe Buddha’s primary insight can be paraphrased as life is painful and then you die. If this is true\, then how do we respond to the difficulties and disappointments of this life and the certainty of death? \nThrough talks\, meditations and group work we will explore the ‘true’ realities of existence and what an appropriate response might be in both our mental attitude and our engagement with the spectrum of sensuality\, and the unavoidable vicissitudes of life.
URL:https://buddhistrecovery.org/event/freedom-without-expectations/
LOCATION:The King Alfred School\, 149 N End Rd\, London\, NW11 7HY\, United Kingdom
CATEGORIES:Affiliated Teacher
ATTACH;FMTTYPE=image/png:https://buddhistrecovery.org/wp-content/uploads/2024/06/2024-Vince-Cullen.png
END:VEVENT
END:VCALENDAR