BEGIN:VCALENDAR
VERSION:2.0
PRODID:-//Buddhist Recovery Network - ECPv6.15.20//NONSGML v1.0//EN
CALSCALE:GREGORIAN
METHOD:PUBLISH
X-ORIGINAL-URL:https://buddhistrecovery.org
X-WR-CALDESC:Events for Buddhist Recovery Network
REFRESH-INTERVAL;VALUE=DURATION:PT1H
X-Robots-Tag:noindex
X-PUBLISHED-TTL:PT1H
BEGIN:VTIMEZONE
TZID:America/Los_Angeles
BEGIN:DAYLIGHT
TZOFFSETFROM:-0800
TZOFFSETTO:-0700
TZNAME:PDT
DTSTART:20240310T100000
END:DAYLIGHT
BEGIN:STANDARD
TZOFFSETFROM:-0700
TZOFFSETTO:-0800
TZNAME:PST
DTSTART:20241103T090000
END:STANDARD
BEGIN:DAYLIGHT
TZOFFSETFROM:-0800
TZOFFSETTO:-0700
TZNAME:PDT
DTSTART:20250309T100000
END:DAYLIGHT
BEGIN:STANDARD
TZOFFSETFROM:-0700
TZOFFSETTO:-0800
TZNAME:PST
DTSTART:20251102T090000
END:STANDARD
BEGIN:DAYLIGHT
TZOFFSETFROM:-0800
TZOFFSETTO:-0700
TZNAME:PDT
DTSTART:20260308T100000
END:DAYLIGHT
BEGIN:STANDARD
TZOFFSETFROM:-0700
TZOFFSETTO:-0800
TZNAME:PST
DTSTART:20261101T090000
END:STANDARD
END:VTIMEZONE
BEGIN:VEVENT
DTSTART;TZID=America/Los_Angeles:20250503T120000
DTEND;TZID=America/Los_Angeles:20250503T130000
DTSTAMP:20260424T075814
CREATED:20231103T122317Z
LAST-MODIFIED:20240523T045932Z
UID:10002150-1746273600-1746277200@buddhistrecovery.org
SUMMARY:Eight Step Recovery BIPOC meeting
DESCRIPTION:8 Step Recovery Meeting for Black Indigenous People of Color and Black Asian Minority Ethnic \nhttps://us02web.zoom.us/j/6794136360?pwd=NlVwYmNkRnBhTEE1QmdZTkQ0WStmZz09 \nMeeting ID: 679 413 6360\nPasscode: brn \n\nContact: Email- eightstepsrecovery@gmail.com
URL:https://buddhistrecovery.org/event/5049/2025-05-03/
LOCATION:MN
CATEGORIES:BRN Online Meetings
END:VEVENT
BEGIN:VEVENT
DTSTART;TZID=America/Los_Angeles:20250504T100000
DTEND;TZID=America/Los_Angeles:20250504T110000
DTSTAMP:20260424T075814
CREATED:20250204T044244Z
LAST-MODIFIED:20250509T033933Z
UID:10003032-1746352800-1746356400@buddhistrecovery.org
SUMMARY:Who Is Myself?
DESCRIPTION:Exploring identity in the context of Dharma and recovery. \n\nMeditation and Dharma Talk with time for Q & A
URL:https://buddhistrecovery.org/event/may-teaching-with-kevin-griffin/
LOCATION:BRN Academy
CATEGORIES:Academy Teachings
END:VEVENT
BEGIN:VEVENT
DTSTART;TZID=America/Los_Angeles:20250506T100000
DTEND;TZID=America/Los_Angeles:20250506T110000
DTSTAMP:20260424T075814
CREATED:20240524T054031Z
LAST-MODIFIED:20250509T034320Z
UID:10002604-1746525600-1746529200@buddhistrecovery.org
SUMMARY:Kevin Griffin - Zoom Classes
DESCRIPTION:One hour Zoom classes\, Tuesdays at 10am Pacific Time. Fridays at 5pm Pacific are now community classes with rotating leaders (except 2nd Fridays which are hosted by Spirit Rock). These classes are casual\, drop-in events. We start with 20 minutes of guided meditation\, followed by a short talk on Buddhism and recovery.  Offer dana through Paypal or Venmo.
URL:https://buddhistrecovery.org/event/kevin-griffin-zoom-classes/2025-05-06/
LOCATION:MN
END:VEVENT
BEGIN:VEVENT
DTSTART;TZID=America/Los_Angeles:20250510T120000
DTEND;TZID=America/Los_Angeles:20250510T130000
DTSTAMP:20260424T075814
CREATED:20231103T122317Z
LAST-MODIFIED:20240523T045932Z
UID:10002151-1746878400-1746882000@buddhistrecovery.org
SUMMARY:Eight Step Recovery BIPOC meeting
DESCRIPTION:8 Step Recovery Meeting for Black Indigenous People of Color and Black Asian Minority Ethnic \nhttps://us02web.zoom.us/j/6794136360?pwd=NlVwYmNkRnBhTEE1QmdZTkQ0WStmZz09 \nMeeting ID: 679 413 6360\nPasscode: brn \n\nContact: Email- eightstepsrecovery@gmail.com
URL:https://buddhistrecovery.org/event/5049/2025-05-10/
LOCATION:MN
CATEGORIES:BRN Online Meetings
END:VEVENT
BEGIN:VEVENT
DTSTART;VALUE=DATE:20250513
DTEND;VALUE=DATE:20250519
DTSTAMP:20260424T075814
CREATED:20250316T142740Z
LAST-MODIFIED:20250316T142812Z
UID:10003036-1747094400-1747612799@buddhistrecovery.org
SUMMARY:Walking the Path of Recovery: Buddhism & the 12 Steps
DESCRIPTION:with Margaret Jones Callahan and Brian Callahan\nThe path of Dharma and the path of recovery complement each other and work together to support and deepen sobriety. Buddhism and the 12 Steps each offer a template or method for one’s personal\, spiritual journey. Both Buddhism and the 12 Steps begin with looking at life on its own terms: either acknowledging life’s unmanageability (as in Step 1) or acknowledging the truth of suffering. Both paths lead to the discovery of joy\, compassion\, and a deeper spiritual relationship to the world. Both Buddhism and the 12 Steps shine a light onto the path towards freedom. \nRegistration and more information
URL:https://buddhistrecovery.org/event/walking-the-path-of-recovery-buddhism-the-12-steps-2/
LOCATION:Dorje Denma Ling\, 2280 Balmoral Road\, The Falls\, NS\, B0K 1V0\, Canada
ATTACH;FMTTYPE=image/jpeg:https://buddhistrecovery.org/wp-content/uploads/2024/07/Footprints-of-the-Buddha.jpg
END:VEVENT
BEGIN:VEVENT
DTSTART;TZID=America/Los_Angeles:20250513T100000
DTEND;TZID=America/Los_Angeles:20250513T110000
DTSTAMP:20260424T075814
CREATED:20240524T054031Z
LAST-MODIFIED:20250509T034320Z
UID:10002605-1747130400-1747134000@buddhistrecovery.org
SUMMARY:Kevin Griffin - Zoom Classes
DESCRIPTION:One hour Zoom classes\, Tuesdays at 10am Pacific Time. Fridays at 5pm Pacific are now community classes with rotating leaders (except 2nd Fridays which are hosted by Spirit Rock). These classes are casual\, drop-in events. We start with 20 minutes of guided meditation\, followed by a short talk on Buddhism and recovery.  Offer dana through Paypal or Venmo.
URL:https://buddhistrecovery.org/event/kevin-griffin-zoom-classes/2025-05-13/
LOCATION:MN
END:VEVENT
BEGIN:VEVENT
DTSTART;TZID=America/Los_Angeles:20250517T090000
DTEND;TZID=America/Los_Angeles:20250517T130000
DTSTAMP:20260424T075814
CREATED:20250421T224421Z
LAST-MODIFIED:20250421T224421Z
UID:10003039-1747472400-1747486800@buddhistrecovery.org
SUMMARY:Heartful Practices During Divisive Times
DESCRIPTION:Heartful Practices During Divisive Times
URL:https://buddhistrecovery.org/event/heartful-practices-during-divisive-times/
LOCATION:MN
END:VEVENT
BEGIN:VEVENT
DTSTART;TZID=America/Los_Angeles:20250517T120000
DTEND;TZID=America/Los_Angeles:20250517T130000
DTSTAMP:20260424T075814
CREATED:20231103T122317Z
LAST-MODIFIED:20240523T045932Z
UID:10002152-1747483200-1747486800@buddhistrecovery.org
SUMMARY:Eight Step Recovery BIPOC meeting
DESCRIPTION:8 Step Recovery Meeting for Black Indigenous People of Color and Black Asian Minority Ethnic \nhttps://us02web.zoom.us/j/6794136360?pwd=NlVwYmNkRnBhTEE1QmdZTkQ0WStmZz09 \nMeeting ID: 679 413 6360\nPasscode: brn \n\nContact: Email- eightstepsrecovery@gmail.com
URL:https://buddhistrecovery.org/event/5049/2025-05-17/
LOCATION:MN
CATEGORIES:BRN Online Meetings
END:VEVENT
BEGIN:VEVENT
DTSTART;TZID=America/Los_Angeles:20250520T100000
DTEND;TZID=America/Los_Angeles:20250520T110000
DTSTAMP:20260424T075814
CREATED:20240524T054031Z
LAST-MODIFIED:20250509T034320Z
UID:10002606-1747735200-1747738800@buddhistrecovery.org
SUMMARY:Kevin Griffin - Zoom Classes
DESCRIPTION:One hour Zoom classes\, Tuesdays at 10am Pacific Time. Fridays at 5pm Pacific are now community classes with rotating leaders (except 2nd Fridays which are hosted by Spirit Rock). These classes are casual\, drop-in events. We start with 20 minutes of guided meditation\, followed by a short talk on Buddhism and recovery.  Offer dana through Paypal or Venmo.
URL:https://buddhistrecovery.org/event/kevin-griffin-zoom-classes/2025-05-20/
LOCATION:MN
END:VEVENT
BEGIN:VEVENT
DTSTART;TZID=America/Los_Angeles:20250524T120000
DTEND;TZID=America/Los_Angeles:20250524T130000
DTSTAMP:20260424T075814
CREATED:20231103T122317Z
LAST-MODIFIED:20240523T045932Z
UID:10002153-1748088000-1748091600@buddhistrecovery.org
SUMMARY:Eight Step Recovery BIPOC meeting
DESCRIPTION:8 Step Recovery Meeting for Black Indigenous People of Color and Black Asian Minority Ethnic \nhttps://us02web.zoom.us/j/6794136360?pwd=NlVwYmNkRnBhTEE1QmdZTkQ0WStmZz09 \nMeeting ID: 679 413 6360\nPasscode: brn \n\nContact: Email- eightstepsrecovery@gmail.com
URL:https://buddhistrecovery.org/event/5049/2025-05-24/
LOCATION:MN
CATEGORIES:BRN Online Meetings
END:VEVENT
BEGIN:VEVENT
DTSTART;TZID=America/Los_Angeles:20250527T100000
DTEND;TZID=America/Los_Angeles:20250527T110000
DTSTAMP:20260424T075814
CREATED:20240524T054031Z
LAST-MODIFIED:20250509T034320Z
UID:10002607-1748340000-1748343600@buddhistrecovery.org
SUMMARY:Kevin Griffin - Zoom Classes
DESCRIPTION:One hour Zoom classes\, Tuesdays at 10am Pacific Time. Fridays at 5pm Pacific are now community classes with rotating leaders (except 2nd Fridays which are hosted by Spirit Rock). These classes are casual\, drop-in events. We start with 20 minutes of guided meditation\, followed by a short talk on Buddhism and recovery.  Offer dana through Paypal or Venmo.
URL:https://buddhistrecovery.org/event/kevin-griffin-zoom-classes/2025-05-27/
LOCATION:MN
END:VEVENT
BEGIN:VEVENT
DTSTART;TZID=America/Los_Angeles:20250531T120000
DTEND;TZID=America/Los_Angeles:20250531T130000
DTSTAMP:20260424T075814
CREATED:20231103T122317Z
LAST-MODIFIED:20240523T045932Z
UID:10002154-1748692800-1748696400@buddhistrecovery.org
SUMMARY:Eight Step Recovery BIPOC meeting
DESCRIPTION:8 Step Recovery Meeting for Black Indigenous People of Color and Black Asian Minority Ethnic \nhttps://us02web.zoom.us/j/6794136360?pwd=NlVwYmNkRnBhTEE1QmdZTkQ0WStmZz09 \nMeeting ID: 679 413 6360\nPasscode: brn \n\nContact: Email- eightstepsrecovery@gmail.com
URL:https://buddhistrecovery.org/event/5049/2025-05-31/
LOCATION:MN
CATEGORIES:BRN Online Meetings
END:VEVENT
END:VCALENDAR