BEGIN:VCALENDAR
VERSION:2.0
PRODID:-//Buddhist Recovery Network - ECPv6.15.20//NONSGML v1.0//EN
CALSCALE:GREGORIAN
METHOD:PUBLISH
X-WR-CALNAME:Buddhist Recovery Network
X-ORIGINAL-URL:https://buddhistrecovery.org
X-WR-CALDESC:Events for Buddhist Recovery Network
REFRESH-INTERVAL;VALUE=DURATION:PT1H
X-Robots-Tag:noindex
X-PUBLISHED-TTL:PT1H
BEGIN:VTIMEZONE
TZID:America/Los_Angeles
BEGIN:DAYLIGHT
TZOFFSETFROM:-0800
TZOFFSETTO:-0700
TZNAME:PDT
DTSTART:20230312T100000
END:DAYLIGHT
BEGIN:STANDARD
TZOFFSETFROM:-0700
TZOFFSETTO:-0800
TZNAME:PST
DTSTART:20231105T090000
END:STANDARD
BEGIN:DAYLIGHT
TZOFFSETFROM:-0800
TZOFFSETTO:-0700
TZNAME:PDT
DTSTART:20240310T100000
END:DAYLIGHT
BEGIN:STANDARD
TZOFFSETFROM:-0700
TZOFFSETTO:-0800
TZNAME:PST
DTSTART:20241103T090000
END:STANDARD
BEGIN:DAYLIGHT
TZOFFSETFROM:-0800
TZOFFSETTO:-0700
TZNAME:PDT
DTSTART:20250309T100000
END:DAYLIGHT
BEGIN:STANDARD
TZOFFSETFROM:-0700
TZOFFSETTO:-0800
TZNAME:PST
DTSTART:20251102T090000
END:STANDARD
END:VTIMEZONE
BEGIN:VEVENT
DTSTART;VALUE=DATE:20240620
DTEND;VALUE=DATE:20240624
DTSTAMP:20260424T000002
CREATED:20240524T051428Z
LAST-MODIFIED:20240524T051627Z
UID:10002550-1718841600-1719187199@buddhistrecovery.org
SUMMARY:Buddhism and Recovery with Kevin Griffin
DESCRIPTION:About the Event\n\n​ \nAll recovery paths are welcome\, whether Twelve Step\, Recovery Dharma\, Eight Step Recovery\, substance\, process\, or relationship-oriented.Join us for this unique meditation retreat combining traditional Buddhist practices with recovery and healing. Primarily conducted in silence\, the retreat focuses on insight/mindfulness meditation\, with additional interactive exercises\, lectures\, and meetings exploring ways that Buddhism and a recovery program can complement each other.The emphasis will be on bringing mindfulness to all our activities\, whether in formal meditation\, movement\, speaking\, listening\, or eating. Participants will practice Noble Silence outside of the interactive exercises and recovery-style meetings.
URL:https://buddhistrecovery.org/event/buddhism-and-recovery-with-kevin-griffin/
LOCATION:Blessed Trinity Shrine Retreat\, 107 Holy Trinity Rd\, Fort Mitchell\, AL\, United States
ATTACH;FMTTYPE=image/jpeg:https://buddhistrecovery.org/wp-content/uploads/2023/12/kevin-griffin-e1702882282753.jpeg
END:VEVENT
END:VCALENDAR