BEGIN:VCALENDAR
VERSION:2.0
PRODID:-//Buddhist Recovery Network - ECPv6.15.20//NONSGML v1.0//EN
CALSCALE:GREGORIAN
METHOD:PUBLISH
X-ORIGINAL-URL:https://buddhistrecovery.org
X-WR-CALDESC:Events for Buddhist Recovery Network
REFRESH-INTERVAL;VALUE=DURATION:PT1H
X-Robots-Tag:noindex
X-PUBLISHED-TTL:PT1H
BEGIN:VTIMEZONE
TZID:America/Los_Angeles
BEGIN:DAYLIGHT
TZOFFSETFROM:-0800
TZOFFSETTO:-0700
TZNAME:PDT
DTSTART:20230312T100000
END:DAYLIGHT
BEGIN:STANDARD
TZOFFSETFROM:-0700
TZOFFSETTO:-0800
TZNAME:PST
DTSTART:20231105T090000
END:STANDARD
BEGIN:DAYLIGHT
TZOFFSETFROM:-0800
TZOFFSETTO:-0700
TZNAME:PDT
DTSTART:20240310T100000
END:DAYLIGHT
BEGIN:STANDARD
TZOFFSETFROM:-0700
TZOFFSETTO:-0800
TZNAME:PST
DTSTART:20241103T090000
END:STANDARD
BEGIN:DAYLIGHT
TZOFFSETFROM:-0800
TZOFFSETTO:-0700
TZNAME:PDT
DTSTART:20250309T100000
END:DAYLIGHT
BEGIN:STANDARD
TZOFFSETFROM:-0700
TZOFFSETTO:-0800
TZNAME:PST
DTSTART:20251102T090000
END:STANDARD
END:VTIMEZONE
BEGIN:VEVENT
DTSTART;TZID=America/Los_Angeles:20240825T093000
DTEND;TZID=America/Los_Angeles:20240825T160000
DTSTAMP:20260424T005913
CREATED:20240801T033022Z
LAST-MODIFIED:20240801T033943Z
UID:10002828-1724578200-1724601600@buddhistrecovery.org
SUMMARY:First Aid Kit for the Mind  Breaking the Cycle of Habitual Behaviors
DESCRIPTION:ONE DAY WORKSHOP\nat the Seattle Buddhist Center\nSunday\, August 25\, 9:30-4:00 \nFor questions\, contact: info@seattlebuddhistcenter.org \n  \nThis workshop will attend to  the resilient heart/mind with\nmeditation\, breath work\, inquiry and compassion. Vimalasara will\nshare practices from their latest book that help soothe trauma\, anxiety and habitual behaviors. \n  \nA day for anyone who wants to pay attention to their heart/mind. \n  \nVimalasara\, an Order Member from Vancouver\, BC\, is an  international public speaker\nand  has been named one of the leading voices in Mindfulness approaches for\naddiction. They work as a space holder for healing\, has a private practice\, and trains\nboth professionals and the general public in the field of trauma and addiction. Professor \n  \nKen Hardy writes:   “As a clinician\, educator\, and trainer\, this inspiring and insightful\nbook left me in absolute awe of Mason-John’s wisdom and guidance as one of the\npremier social\, cultural\, and psychological healers of our time. \n  \nPlease bring a vegetarian potluck item to share or your own food.\nSuggested donation is $25.
URL:https://buddhistrecovery.org/event/first-aid-kit-for-the-mind-breaking-the-cycle-of-habitual-behaviors/
LOCATION:Seattle Buddhist Center\, 2056 15th Avenue NE\, Unit C-2.\, Seattle\, WA\, 98125\, United States
ATTACH;FMTTYPE=image/jpeg:https://buddhistrecovery.org/wp-content/uploads/2024/07/first-aid-kit-for-the-mind.jpeg
END:VEVENT
END:VCALENDAR