BEGIN:VCALENDAR
VERSION:2.0
PRODID:-//Buddhist Recovery Network - ECPv6.15.20//NONSGML v1.0//EN
CALSCALE:GREGORIAN
METHOD:PUBLISH
X-WR-CALNAME:Buddhist Recovery Network
X-ORIGINAL-URL:https://buddhistrecovery.org
X-WR-CALDESC:Events for Buddhist Recovery Network
REFRESH-INTERVAL;VALUE=DURATION:PT1H
X-Robots-Tag:noindex
X-PUBLISHED-TTL:PT1H
BEGIN:VTIMEZONE
TZID:America/Los_Angeles
BEGIN:DAYLIGHT
TZOFFSETFROM:-0800
TZOFFSETTO:-0700
TZNAME:PDT
DTSTART:20230312T100000
END:DAYLIGHT
BEGIN:STANDARD
TZOFFSETFROM:-0700
TZOFFSETTO:-0800
TZNAME:PST
DTSTART:20231105T090000
END:STANDARD
BEGIN:DAYLIGHT
TZOFFSETFROM:-0800
TZOFFSETTO:-0700
TZNAME:PDT
DTSTART:20240310T100000
END:DAYLIGHT
BEGIN:STANDARD
TZOFFSETFROM:-0700
TZOFFSETTO:-0800
TZNAME:PST
DTSTART:20241103T090000
END:STANDARD
BEGIN:DAYLIGHT
TZOFFSETFROM:-0800
TZOFFSETTO:-0700
TZNAME:PDT
DTSTART:20250309T100000
END:DAYLIGHT
BEGIN:STANDARD
TZOFFSETFROM:-0700
TZOFFSETTO:-0800
TZNAME:PST
DTSTART:20251102T090000
END:STANDARD
BEGIN:DAYLIGHT
TZOFFSETFROM:-0800
TZOFFSETTO:-0700
TZNAME:PDT
DTSTART:20260308T100000
END:DAYLIGHT
BEGIN:STANDARD
TZOFFSETFROM:-0700
TZOFFSETTO:-0800
TZNAME:PST
DTSTART:20261101T090000
END:STANDARD
END:VTIMEZONE
BEGIN:VEVENT
DTSTART;TZID=America/Los_Angeles:20250815T100000
DTEND;TZID=America/Los_Angeles:20250815T163000
DTSTAMP:20260423T225744
CREATED:20250730T053619Z
LAST-MODIFIED:20250730T053735Z
UID:10003276-1755252000-1755275400@buddhistrecovery.org
SUMMARY:Keeping Our Joy Alive in Recovery: Mindfulness for Emotional Balance and Inner Clarity - with Kevin Griffin and Vimalasara
DESCRIPTION:See Event Details
URL:https://buddhistrecovery.org/event/keeping-our-joy-alive-in-recovery-mindfulness-for-emotional-balance-and-inner-clarity-with-kevin-griffin-and-vimalasara/
LOCATION:Spirit Rock – Online and In Person\, Spirit Rock Meditation Center\, 5000 Sir Francis Drake Blvd Box 169\, Woodacre\, CA\, 94973\, United States
END:VEVENT
BEGIN:VEVENT
DTSTART;TZID=America/Los_Angeles:20240602T090000
DTEND;TZID=America/Los_Angeles:20240602T120000
DTSTAMP:20260423T225744
CREATED:20240524T053548Z
LAST-MODIFIED:20240524T053548Z
UID:10002553-1717318800-1717329600@buddhistrecovery.org
SUMMARY:Freedom of Heart - Kevin Griffin and Vimalasara\, MA - ONLINE
DESCRIPTION:Freedom of Heart: Mindfulness Practices for Healing Addiction (KG1H24)\nKevin Griffin and Vimalasara\, MA\nWhile we all long for safety and freedom in our lives\, many of us struggle with compulsive and addictive thoughts and behaviors that undermine our happiness. Through meditation\, interactive exercises\, Dharma talks\, and Q&A\, we will explore ways to release ourselves from these painful habits and find more freedom and joy throughout our lives.
URL:https://buddhistrecovery.org/event/freedom-of-heart-kevin-griffin-and-vimalasara-ma-online/
LOCATION:Spirit Rock – Online and In Person\, Spirit Rock Meditation Center\, 5000 Sir Francis Drake Blvd Box 169\, Woodacre\, CA\, 94973\, United States
ATTACH;FMTTYPE=image/jpeg:https://buddhistrecovery.org/wp-content/uploads/2019/06/artwork-1.jpg
END:VEVENT
END:VCALENDAR